Package: cogeqc Version: 1.14.0 Command: /home/biocbuild/bbs-3.22-bioc/R/bin/R CMD INSTALL cogeqc StartedAt: 2025-11-13 15:34:51 -0500 (Thu, 13 Nov 2025) EndedAt: 2025-11-13 15:35:06 -0500 (Thu, 13 Nov 2025) EllapsedTime: 15.0 seconds RetCode: 0 Status: OK