Package: cogeqc Version: 1.14.0 Command: /home/biocbuild/bbs-3.22-bioc/R/bin/R CMD build --keep-empty-dirs --no-resave-data --md5 cogeqc StartedAt: 2025-11-14 16:59:33 -0500 (Fri, 14 Nov 2025) EndedAt: 2025-11-14 17:01:12 -0500 (Fri, 14 Nov 2025) EllapsedTime: 99.1 seconds RetCode: 0 Status: OK PackageFile: cogeqc_1.14.0.tar.gz PackageFileSize: 3.206 MiB