Package: cogena Version: 1.42.0 Command: /home/biocbuild/bbs-3.21-bioc/R/bin/R CMD build --keep-empty-dirs --no-resave-data cogena StartedAt: 2025-10-15 16:51:00 -0400 (Wed, 15 Oct 2025) EndedAt: 2025-10-15 16:53:36 -0400 (Wed, 15 Oct 2025) EllapsedTime: 156.2 seconds RetCode: 0 Status: OK PackageFile: cogena_1.42.0.tar.gz PackageFileSize: 7.332 MiB