Package: cogena Version: 1.42.0 Command: /home/biocbuild/R/R/bin/R CMD build --keep-empty-dirs --no-resave-data cogena StartedAt: 2025-09-29 23:46:26 -0000 (Mon, 29 Sep 2025) EndedAt: 2025-09-29 23:51:06 -0000 (Mon, 29 Sep 2025) EllapsedTime: 280.1 seconds RetCode: 0 Status: OK PackageFile: cogena_1.42.0.tar.gz PackageFileSize: 7.193 MiB