Package: cogena Version: 1.42.0 Command: /Library/Frameworks/R.framework/Resources/bin/R CMD build --keep-empty-dirs --no-resave-data cogena StartedAt: 2025-04-21 15:57:45 -0400 (Mon, 21 Apr 2025) EndedAt: 2025-04-21 15:59:11 -0400 (Mon, 21 Apr 2025) EllapsedTime: 86.0 seconds RetCode: 0 Status: OK PackageFile: cogena_1.42.0.tar.gz PackageFileSize: 7.508 MiB