Package: cogena Version: 1.42.0 Command: rm -rf cogena.buildbin-libdir && mkdir cogena.buildbin-libdir && /Users/biocbuild/BBS/utils/build-universal.sh cogena_1.42.0.tar.gz /Library/Frameworks/R.framework/Resources/bin/R cogena.buildbin-libdir StartedAt: 2025-04-21 22:30:33 -0400 (Mon, 21 Apr 2025) EndedAt: 2025-04-21 22:30:41 -0400 (Mon, 21 Apr 2025) EllapsedTime: 7.1 seconds RetCode: 0 Status: OK PackageFile: cogena_1.42.0.tgz PackageFileSize: 7.702 MiB