Package: cogena Version: 1.42.0 Command: rm -rf cogena.buildbin-libdir && mkdir cogena.buildbin-libdir && /Users/biocbuild/BBS/utils/build-universal.sh cogena_1.42.0.tar.gz /Library/Frameworks/R.framework/Resources/bin/R cogena.buildbin-libdir StartedAt: 2025-10-15 17:56:45 -0400 (Wed, 15 Oct 2025) EndedAt: 2025-10-15 17:57:06 -0400 (Wed, 15 Oct 2025) EllapsedTime: 21.0 seconds RetCode: 0 Status: OK PackageFile: cogena_1.42.0.tgz PackageFileSize: 7.7 MiB