Package: codelink Version: 1.78.0 Command: /home/biocbuild/R/R/bin/R CMD INSTALL codelink StartedAt: 2025-11-13 21:40:08 -0000 (Thu, 13 Nov 2025) EndedAt: 2025-11-13 21:40:32 -0000 (Thu, 13 Nov 2025) EllapsedTime: 23.9 seconds RetCode: 0 Status: OK