Package: codelink Version: 1.78.0 Command: /home/biocbuild/bbs-3.22-bioc/R/bin/R CMD INSTALL codelink StartedAt: 2025-11-11 15:36:00 -0500 (Tue, 11 Nov 2025) EndedAt: 2025-11-11 15:36:17 -0500 (Tue, 11 Nov 2025) EllapsedTime: 17.0 seconds RetCode: 0 Status: OK