Package: codelink Version: 1.76.0 Command: /home/biocbuild/bbs-3.21-bioc/R/bin/R CMD INSTALL codelink StartedAt: 2025-10-01 15:34:04 -0400 (Wed, 01 Oct 2025) EndedAt: 2025-10-01 15:34:20 -0400 (Wed, 01 Oct 2025) EllapsedTime: 16.9 seconds RetCode: 0 Status: OK