Package: codelink Version: 1.76.0 Command: /home/biocbuild/bbs-3.21-bioc/R/bin/R CMD build --keep-empty-dirs --no-resave-data codelink StartedAt: 2025-10-01 16:53:14 -0400 (Wed, 01 Oct 2025) EndedAt: 2025-10-01 16:53:45 -0400 (Wed, 01 Oct 2025) EllapsedTime: 31.0 seconds RetCode: 0 Status: OK PackageFile: codelink_1.76.0.tar.gz PackageFileSize: 3.181 MiB