Package: codelink Version: 1.76.0 Command: /Library/Frameworks/R.framework/Resources/bin/R CMD INSTALL codelink StartedAt: 2025-10-02 15:55:26 -0400 (Thu, 02 Oct 2025) EndedAt: 2025-10-02 15:55:51 -0400 (Thu, 02 Oct 2025) EllapsedTime: 25.3 seconds RetCode: 0 Status: OK