Package: codelink Version: 1.76.0 Command: rm -rf codelink.buildbin-libdir && mkdir codelink.buildbin-libdir && /Users/biocbuild/BBS/utils/build-universal.sh codelink_1.76.0.tar.gz /Library/Frameworks/R.framework/Resources/bin/R codelink.buildbin-libdir StartedAt: 2025-10-04 17:26:29 -0400 (Sat, 04 Oct 2025) EndedAt: 2025-10-04 17:26:50 -0400 (Sat, 04 Oct 2025) EllapsedTime: 21.6 seconds RetCode: 0 Status: OK PackageFile: codelink_1.76.0.tgz PackageFileSize: 3.573 MiB