Package: coRdon Version: 1.28.0 Command: /home/biocbuild/bbs-3.22-bioc/R/bin/R CMD INSTALL coRdon StartedAt: 2025-11-02 15:22:22 -0500 (Sun, 02 Nov 2025) EndedAt: 2025-11-02 15:22:41 -0500 (Sun, 02 Nov 2025) EllapsedTime: 18.7 seconds RetCode: 0 Status: OK