Package: coMethDMR Version: 1.14.0 Command: /home/biocbuild/bbs-3.22-bioc/R/bin/R CMD build --keep-empty-dirs --no-resave-data --md5 coMethDMR StartedAt: 2025-11-11 17:02:21 -0500 (Tue, 11 Nov 2025) EndedAt: 2025-11-11 17:06:06 -0500 (Tue, 11 Nov 2025) EllapsedTime: 225.2 seconds RetCode: 0 Status: OK PackageFile: coMethDMR_1.14.0.tar.gz PackageFileSize: 3.106 MiB