Package: coMethDMR Version: 1.14.0 Command: /Library/Frameworks/R.framework/Resources/bin/R CMD INSTALL coMethDMR StartedAt: 2025-10-31 15:27:21 -0400 (Fri, 31 Oct 2025) EndedAt: 2025-10-31 15:27:40 -0400 (Fri, 31 Oct 2025) EllapsedTime: 19.4 seconds RetCode: 0 Status: OK