Package: coMethDMR Version: 1.14.0 Command: /Library/Frameworks/R.framework/Resources/bin/R CMD build --keep-empty-dirs --no-resave-data coMethDMR StartedAt: 2025-11-03 16:00:18 -0500 (Mon, 03 Nov 2025) EndedAt: 2025-11-03 16:01:57 -0500 (Mon, 03 Nov 2025) EllapsedTime: 99.1 seconds RetCode: 0 Status: OK PackageFile: coMethDMR_1.14.0.tar.gz PackageFileSize: 3.103 MiB