Package: coGPS Version: 1.54.0 Command: /home/biocbuild/bbs-3.22-bioc/R/bin/R CMD build --keep-empty-dirs --no-resave-data --md5 coGPS StartedAt: 2025-11-11 17:01:26 -0500 (Tue, 11 Nov 2025) EndedAt: 2025-11-11 17:01:36 -0500 (Tue, 11 Nov 2025) EllapsedTime: 10.0 seconds RetCode: 0 Status: OK PackageFile: coGPS_1.54.0.tar.gz PackageFileSize: 1.763 MiB