Package: coGPS Version: 1.52.0 Command: /home/biocbuild/R/R/bin/R CMD INSTALL coGPS StartedAt: 2025-10-13 20:13:06 -0000 (Mon, 13 Oct 2025) EndedAt: 2025-10-13 20:13:35 -0000 (Mon, 13 Oct 2025) EllapsedTime: 29.6 seconds RetCode: 0 Status: OK