Package: coGPS Version: 1.54.0 Command: /Library/Frameworks/R.framework/Resources/bin/R CMD INSTALL coGPS StartedAt: 2025-11-06 15:01:46 -0500 (Thu, 06 Nov 2025) EndedAt: 2025-11-06 15:01:51 -0500 (Thu, 06 Nov 2025) EllapsedTime: 4.2 seconds RetCode: 0 Status: OK