Package: coGPS Version: 1.54.0 Command: /Library/Frameworks/R.framework/Resources/bin/R CMD build --keep-empty-dirs --no-resave-data coGPS StartedAt: 2025-11-06 15:59:53 -0500 (Thu, 06 Nov 2025) EndedAt: 2025-11-06 15:59:58 -0500 (Thu, 06 Nov 2025) EllapsedTime: 5.1 seconds RetCode: 0 Status: OK PackageFile: coGPS_1.54.0.tar.gz PackageFileSize: 1.762 MiB