Package: coGPS Version: 1.54.0 Command: rm -rf coGPS.buildbin-libdir && mkdir coGPS.buildbin-libdir && /Users/biocbuild/BBS/utils/build-universal.sh coGPS_1.54.0.tar.gz /Library/Frameworks/R.framework/Resources/bin/R coGPS.buildbin-libdir StartedAt: 2025-11-06 23:00:24 -0500 (Thu, 06 Nov 2025) EndedAt: 2025-11-06 23:00:26 -0500 (Thu, 06 Nov 2025) EllapsedTime: 2.0 seconds RetCode: 0 Status: OK PackageFile: coGPS_1.54.0.tgz PackageFileSize: 1.789 MiB