Package: cn.mops Version: 1.56.0 Command: /home/biocbuild/bbs-3.22-bioc/R/bin/R CMD INSTALL cn.mops StartedAt: 2025-11-11 15:20:22 -0500 (Tue, 11 Nov 2025) EndedAt: 2025-11-11 15:20:40 -0500 (Tue, 11 Nov 2025) EllapsedTime: 17.6 seconds RetCode: 0 Status: OK