Package: cn.mops Version: 1.56.0 Command: /home/biocbuild/bbs-3.22-bioc/R/bin/R CMD build --keep-empty-dirs --no-resave-data --md5 cn.mops StartedAt: 2025-11-13 16:56:14 -0500 (Thu, 13 Nov 2025) EndedAt: 2025-11-13 16:56:53 -0500 (Thu, 13 Nov 2025) EllapsedTime: 39.0 seconds RetCode: 0 Status: OK PackageFile: cn.mops_1.56.0.tar.gz PackageFileSize: 1.006 MiB