Package: cmapR Version: 1.22.0 Command: /home/biocbuild/R/R/bin/R CMD INSTALL cmapR StartedAt: 2025-11-13 21:28:28 -0000 (Thu, 13 Nov 2025) EndedAt: 2025-11-13 21:29:00 -0000 (Thu, 13 Nov 2025) EllapsedTime: 31.9 seconds RetCode: 0 Status: OK