Package: cmapR Version: 1.22.0 Command: /home/biocbuild/R/R/bin/R CMD build --keep-empty-dirs --no-resave-data cmapR StartedAt: 2025-11-14 00:43:33 -0000 (Fri, 14 Nov 2025) EndedAt: 2025-11-14 00:44:50 -0000 (Fri, 14 Nov 2025) EllapsedTime: 77.0 seconds RetCode: 0 Status: OK PackageFile: cmapR_1.22.0.tar.gz PackageFileSize: 3.758 MiB