Package: cmapR Version: 1.20.0 Command: /home/biocbuild/bbs-3.21-bioc/R/bin/R CMD INSTALL cmapR StartedAt: 2025-10-01 15:22:46 -0400 (Wed, 01 Oct 2025) EndedAt: 2025-10-01 15:23:10 -0400 (Wed, 01 Oct 2025) EllapsedTime: 24.7 seconds RetCode: 0 Status: OK