Package: cmapR Version: 1.20.0 Command: /home/biocbuild/bbs-3.21-bioc/R/bin/R CMD build --keep-empty-dirs --no-resave-data cmapR StartedAt: 2025-10-01 16:51:20 -0400 (Wed, 01 Oct 2025) EndedAt: 2025-10-01 16:52:12 -0400 (Wed, 01 Oct 2025) EllapsedTime: 52.0 seconds RetCode: 0 Status: OK PackageFile: cmapR_1.20.0.tar.gz PackageFileSize: 3.817 MiB