Package: cmapR Version: 1.20.0 Command: /Library/Frameworks/R.framework/Resources/bin/R CMD build --keep-empty-dirs --no-resave-data cmapR StartedAt: 2025-10-13 17:59:44 -0400 (Mon, 13 Oct 2025) EndedAt: 2025-10-13 18:02:02 -0400 (Mon, 13 Oct 2025) EllapsedTime: 137.2 seconds RetCode: 0 Status: OK PackageFile: cmapR_1.20.0.tar.gz PackageFileSize: 3.738 MiB