Package: cmapR Version: 1.20.0 Command: /Library/Frameworks/R.framework/Resources/bin/R CMD INSTALL cmapR StartedAt: 2025-09-29 16:25:03 -0400 (Mon, 29 Sep 2025) EndedAt: 2025-09-29 16:25:34 -0400 (Mon, 29 Sep 2025) EllapsedTime: 30.3 seconds RetCode: 0 Status: OK