Package: cmapR Version: 1.20.0 Command: /Library/Frameworks/R.framework/Resources/bin/R CMD build --keep-empty-dirs --no-resave-data cmapR StartedAt: 2025-09-29 21:42:33 -0400 (Mon, 29 Sep 2025) EndedAt: 2025-09-29 21:43:49 -0400 (Mon, 29 Sep 2025) EllapsedTime: 76.0 seconds RetCode: 0 Status: OK PackageFile: cmapR_1.20.0.tar.gz PackageFileSize: 3.738 MiB