Package: cmapR Version: 1.20.0 Command: rm -rf cmapR.buildbin-libdir && mkdir cmapR.buildbin-libdir && /Users/biocbuild/BBS/utils/build-universal.sh cmapR_1.20.0.tar.gz /Library/Frameworks/R.framework/Resources/bin/R cmapR.buildbin-libdir StartedAt: 2025-10-01 17:53:22 -0400 (Wed, 01 Oct 2025) EndedAt: 2025-10-01 17:53:57 -0400 (Wed, 01 Oct 2025) EllapsedTime: 34.9 seconds RetCode: 0 Status: OK PackageFile: cmapR_1.20.0.tgz PackageFileSize: 3.963 MiB