Package: clustifyr Version: 1.22.0 Command: /home/biocbuild/R/R/bin/R CMD INSTALL clustifyr StartedAt: 2025-11-10 21:25:50 -0000 (Mon, 10 Nov 2025) EndedAt: 2025-11-10 21:26:35 -0000 (Mon, 10 Nov 2025) EllapsedTime: 44.8 seconds RetCode: 0 Status: OK