Package: clustifyr Version: 1.22.0 Command: /home/biocbuild/R/R/bin/R CMD check --install=check:clustifyr.install-out.txt --library=/home/biocbuild/R/R/site-library --no-vignettes --timings clustifyr_1.22.0.tar.gz StartedAt: 2025-11-11 08:17:30 -0000 (Tue, 11 Nov 2025) EndedAt: 2025-11-11 08:31:42 -0000 (Tue, 11 Nov 2025) EllapsedTime: 851.7 seconds RetCode: 0 Status: OK CheckDir: clustifyr.Rcheck Warnings: 0