Package: clustifyr Version: 1.22.0 Command: /home/biocbuild/R/R/bin/R CMD build --keep-empty-dirs --no-resave-data clustifyr StartedAt: 2025-11-11 00:34:12 -0000 (Tue, 11 Nov 2025) EndedAt: 2025-11-11 00:35:32 -0000 (Tue, 11 Nov 2025) EllapsedTime: 80.0 seconds RetCode: 0 Status: OK PackageFile: clustifyr_1.22.0.tar.gz PackageFileSize: 2.89 MiB