Package: clustifyr Version: 1.22.0 Command: /home/biocbuild/bbs-3.22-bioc/R/bin/R CMD check --install=check:clustifyr.install-out.txt --library=/home/biocbuild/bbs-3.22-bioc/R/site-library --timings clustifyr_1.22.0.tar.gz StartedAt: 2025-11-11 22:19:46 -0500 (Tue, 11 Nov 2025) EndedAt: 2025-11-11 22:31:57 -0500 (Tue, 11 Nov 2025) EllapsedTime: 731.7 seconds RetCode: 0 Status: OK CheckDir: clustifyr.Rcheck Warnings: 0