Package: clustifyr Version: 1.22.0 Command: /home/biocbuild/bbs-3.22-bioc/R/bin/R CMD build --keep-empty-dirs --no-resave-data --md5 clustifyr StartedAt: 2025-11-13 16:55:48 -0500 (Thu, 13 Nov 2025) EndedAt: 2025-11-13 16:56:45 -0500 (Thu, 13 Nov 2025) EllapsedTime: 57.0 seconds RetCode: 0 Status: OK PackageFile: clustifyr_1.22.0.tar.gz PackageFileSize: 3.175 MiB