Package: clustifyr Version: 1.22.0 Command: /Library/Frameworks/R.framework/Resources/bin/R CMD check --install=check:clustifyr.install-out.txt --library=/Library/Frameworks/R.framework/Resources/library --no-vignettes --timings clustifyr_1.22.0.tar.gz StartedAt: 2025-11-03 20:15:27 -0500 (Mon, 03 Nov 2025) EndedAt: 2025-11-03 20:28:11 -0500 (Mon, 03 Nov 2025) EllapsedTime: 764.9 seconds RetCode: 0 Status: OK CheckDir: clustifyr.Rcheck Warnings: 0