Package: clustifyr Version: 1.20.0 Command: /Library/Frameworks/R.framework/Resources/bin/R CMD check --install=check:clustifyr.install-out.txt --library=/Library/Frameworks/R.framework/Resources/library --no-vignettes --timings clustifyr_1.20.0.tar.gz StartedAt: 2025-10-10 17:08:44 -0400 (Fri, 10 Oct 2025) EndedAt: 2025-10-10 17:25:10 -0400 (Fri, 10 Oct 2025) EllapsedTime: 986.0 seconds RetCode: 0 Status: OK CheckDir: clustifyr.Rcheck Warnings: 0