Package: clusterStab Version: 1.82.0 Command: /home/biocbuild/R/R/bin/R CMD INSTALL clusterStab StartedAt: 2025-11-10 21:18:33 -0000 (Mon, 10 Nov 2025) EndedAt: 2025-11-10 21:18:42 -0000 (Mon, 10 Nov 2025) EllapsedTime: 9.2 seconds RetCode: 0 Status: OK