Package: clusterStab Version: 1.82.0 Command: /home/biocbuild/R/R/bin/R CMD build --keep-empty-dirs --no-resave-data clusterStab StartedAt: 2025-11-11 00:34:00 -0000 (Tue, 11 Nov 2025) EndedAt: 2025-11-11 00:34:16 -0000 (Tue, 11 Nov 2025) EllapsedTime: 16.0 seconds RetCode: 0 Status: OK PackageFile: clusterStab_1.82.0.tar.gz PackageFileSize: 178.6 KiB