Package: clusterStab Version: 1.82.0 Command: /home/biocbuild/bbs-3.22-bioc/R/bin/R CMD INSTALL clusterStab StartedAt: 2025-11-11 15:17:12 -0500 (Tue, 11 Nov 2025) EndedAt: 2025-11-11 15:17:15 -0500 (Tue, 11 Nov 2025) EllapsedTime: 3.4 seconds RetCode: 0 Status: OK