Package: clusterStab Version: 1.82.0 Command: /home/biocbuild/bbs-3.22-bioc/R/bin/R CMD check --install=check:clusterStab.install-out.txt --library=/home/biocbuild/bbs-3.22-bioc/R/site-library --timings clusterStab_1.82.0.tar.gz StartedAt: 2025-11-11 22:19:41 -0500 (Tue, 11 Nov 2025) EndedAt: 2025-11-11 22:20:11 -0500 (Tue, 11 Nov 2025) EllapsedTime: 30.0 seconds RetCode: 0 Status: OK CheckDir: clusterStab.Rcheck Warnings: 0