Package: clusterStab Version: 1.80.0 Command: /Library/Frameworks/R.framework/Resources/bin/R CMD INSTALL clusterStab StartedAt: 2025-10-13 15:23:08 -0400 (Mon, 13 Oct 2025) EndedAt: 2025-10-13 15:23:17 -0400 (Mon, 13 Oct 2025) EllapsedTime: 8.8 seconds RetCode: 0 Status: OK