Package: clusterStab Version: 1.80.0 Command: /Library/Frameworks/R.framework/Resources/bin/R CMD build --keep-empty-dirs --no-resave-data clusterStab StartedAt: 2025-10-13 17:59:01 -0400 (Mon, 13 Oct 2025) EndedAt: 2025-10-13 17:59:32 -0400 (Mon, 13 Oct 2025) EllapsedTime: 31.5 seconds RetCode: 0 Status: OK PackageFile: clusterStab_1.80.0.tar.gz PackageFileSize: 185.5 KiB