Package: clusterStab Version: 1.80.0 Command: rm -rf clusterStab.buildbin-libdir && mkdir clusterStab.buildbin-libdir && /Users/biocbuild/BBS/utils/build-universal.sh clusterStab_1.80.0.tar.gz /Library/Frameworks/R.framework/Resources/bin/R clusterStab.buildbin-libdir StartedAt: 2025-10-14 13:04:32 -0400 (Tue, 14 Oct 2025) EndedAt: 2025-10-14 13:04:45 -0400 (Tue, 14 Oct 2025) EllapsedTime: 12.9 seconds RetCode: 0 Status: OK PackageFile: clusterStab_1.80.0.tgz PackageFileSize: 342.7 KiB