Package: clusterSeq Version: 1.34.0 Command: /home/biocbuild/R/R/bin/R CMD INSTALL clusterSeq StartedAt: 2025-11-13 21:23:57 -0000 (Thu, 13 Nov 2025) EndedAt: 2025-11-13 21:24:12 -0000 (Thu, 13 Nov 2025) EllapsedTime: 15.5 seconds RetCode: 0 Status: OK