Package: clusterSeq Version: 1.34.0 Command: /home/biocbuild/R/R/bin/R CMD check --install=check:clusterSeq.install-out.txt --library=/home/biocbuild/R/R/site-library --no-vignettes --timings clusterSeq_1.34.0.tar.gz StartedAt: 2025-11-25 08:06:28 -0000 (Tue, 25 Nov 2025) EndedAt: 2025-11-25 08:11:34 -0000 (Tue, 25 Nov 2025) EllapsedTime: 305.4 seconds RetCode: 0 Status: OK CheckDir: clusterSeq.Rcheck Warnings: 0