Package: clusterSeq Version: 1.34.0 Command: /home/biocbuild/R/R/bin/R CMD build --keep-empty-dirs --no-resave-data clusterSeq StartedAt: 2025-11-11 00:33:41 -0000 (Tue, 11 Nov 2025) EndedAt: 2025-11-11 00:35:05 -0000 (Tue, 11 Nov 2025) EllapsedTime: 84.0 seconds RetCode: 0 Status: OK PackageFile: clusterSeq_1.34.0.tar.gz PackageFileSize: 1.001 MiB