Package: clusterSeq Version: 1.34.0 Command: /home/biocbuild/bbs-3.22-bioc/R/bin/R CMD INSTALL clusterSeq StartedAt: 2025-11-11 15:21:19 -0500 (Tue, 11 Nov 2025) EndedAt: 2025-11-11 15:21:30 -0500 (Tue, 11 Nov 2025) EllapsedTime: 11.5 seconds RetCode: 0 Status: OK